BEGIN:VCALENDAR
VERSION:2.0
PRODID:-//Planning Congres//ICS//FR
CALSCALE:GREGORIAN
METHOD:PUBLISH
BEGIN:VEVENT
UID:evt_035333eb7832@events.local
DTSTAMP:20260421T002918Z
DTSTART;VALUE=DATE:20260605
DTEND;VALUE=DATE:20260608
SUMMARY:Oxymore 2026
LOCATION:\, Ajaccio
DESCRIPTION:Organisateur: Dr Soler & Dr Valério\nType: Congrès vasculaire\nParticipation: Oui\nCvent: Oui\nPrésence: Yolande, Téo, JJC
END:VEVENT
END:VCALENDAR
