BEGIN:VCALENDAR
VERSION:2.0
PRODID:-//Planning Congres//ICS//FR
CALSCALE:GREGORIAN
METHOD:PUBLISH
BEGIN:VEVENT
UID:evt_1256f6ba5523@events.local
DTSTAMP:20260421T003051Z
DTSTART;VALUE=DATE:20260604
DTEND;VALUE=DATE:20260606
SUMMARY:SRES 2026
LOCATION:Centre de congrès Oustau\, Cassis
DESCRIPTION:Organisateur: Pr Gaudry/COMCO\nType: Congrès vasculaire\nParticipation: Oui\nCvent: Oui\nPrésence: Jeudi tte la journée Yolande +Téo /  William & Arnaud  Vendredi matin  jusqu'à 14h
END:VEVENT
END:VCALENDAR
