BEGIN:VCALENDAR
VERSION:2.0
PRODID:-//Planning Congres//ICS//FR
CALSCALE:GREGORIAN
METHOD:PUBLISH
BEGIN:VEVENT
UID:evt_12e32cfb2314@events.local
DTSTAMP:20260420T225426Z
DTSTART;VALUE=DATE:20251016
DTEND;VALUE=DATE:20251018
SUMMARY:collège Région Nord-Ouest
LOCATION:CHU Amiens\, Amiens
DESCRIPTION:Organisateur: Pr BERGER\nType: Collèges vasculaire\nParticipation: Oui
END:VEVENT
END:VCALENDAR
