BEGIN:VCALENDAR
VERSION:2.0
PRODID:-//Planning Congres//ICS//FR
CALSCALE:GREGORIAN
METHOD:PUBLISH
BEGIN:VEVENT
UID:evt_1deaf54b68fb@events.local
DTSTAMP:20260420T225309Z
DTSTART;VALUE=DATE:20260426
DTEND;VALUE=DATE:20260501
SUMMARY:EMEA annual meeting
LOCATION:Vilnius\, Lituanie
DESCRIPTION:Type: Réunion\nParticipation: EMEA
END:VEVENT
END:VCALENDAR
