BEGIN:VCALENDAR
VERSION:2.0
PRODID:-//Planning Congres//ICS//FR
CALSCALE:GREGORIAN
METHOD:PUBLISH
BEGIN:VEVENT
UID:evt_2921e9d17ee6@events.local
DTSTAMP:20260420T225508Z
DTSTART;VALUE=DATE:20251114
DTEND;VALUE=DATE:20251116
SUMMARY:COLLEGE  ILE DE FRANCE
LOCATION:CHU Pitié-Salpêtrière & Auditorium de l'Institut du Cerveau\, Paris
DESCRIPTION:Organisateur: Pr Salma EL-BATTI\nType: Collèges vasculaire
END:VEVENT
END:VCALENDAR
