BEGIN:VCALENDAR
VERSION:2.0
PRODID:-//Planning Congres//ICS//FR
CALSCALE:GREGORIAN
METHOD:PUBLISH
BEGIN:VEVENT
UID:evt_2a99a28133f4@events.local
DTSTAMP:20260421T003051Z
DTSTART;VALUE=DATE:20251127
DTEND;VALUE=DATE:20251129
SUMMARY:Cook France End of Year Meeting
LOCATION:\, Paris
DESCRIPTION:Organisateur: Andreas Förster\nType: Réunion\nParticipation: Non\nCvent: Non
END:VEVENT
END:VCALENDAR
