BEGIN:VCALENDAR
VERSION:2.0
PRODID:-//Planning Congres//ICS//FR
CALSCALE:GREGORIAN
METHOD:PUBLISH
BEGIN:VEVENT
UID:evt_580e36802ba8@events.local
DTSTAMP:20260420T225426Z
DTSTART;VALUE=DATE:20260312
DTEND;VALUE=DATE:20260316
SUMMARY:AJCVASC 2025
LOCATION:chalet Mont Vallon\, Menuire
DESCRIPTION:Organisateur: Dr Matray\nType: Congrès vasculaire\nParticipation: Oui\nCvent: Non\nPrésence: Mathias\nCommentaires: Chambre réservé par l'organisation
END:VEVENT
END:VCALENDAR
