BEGIN:VCALENDAR
VERSION:2.0
PRODID:-//Planning Congres//ICS//FR
CALSCALE:GREGORIAN
METHOD:PUBLISH
BEGIN:VEVENT
UID:evt_68d65d578393f0.36134493@events.local
DTSTAMP:20260420T230228Z
DTSTART;VALUE=DATE:20250207
DTEND;VALUE=DATE:20250208
SUMMARY:JVAP
LOCATION:Paris\, Paris
DESCRIPTION:Organisateur: aphp paris\nType: Congrès vasculaire\nParticipation: Oui\nCvent: Oui\nPrésence: Pauline , Marie-A,Jacques
END:VEVENT
END:VCALENDAR
