BEGIN:VCALENDAR
VERSION:2.0
PRODID:-//Planning Congres//ICS//FR
CALSCALE:GREGORIAN
METHOD:PUBLISH
BEGIN:VEVENT
UID:evt_68d65d578395e2.71020183@events.local
DTSTAMP:20260421T003229Z
DTSTART;VALUE=DATE:20250314
DTEND;VALUE=DATE:20250316
SUMMARY:AJCVS
LOCATION:Novotel\, Arc 1800\, Bourg-Saint-Maurice\, France
DESCRIPTION:Organisateur: Dr Matray\nType: Congrès vasculaire\nParticipation: Oui\nCvent: Oui\nPrésence: Thibault
END:VEVENT
END:VCALENDAR
