BEGIN:VCALENDAR
VERSION:2.0
PRODID:-//Planning Congres//ICS//FR
CALSCALE:GREGORIAN
METHOD:PUBLISH
BEGIN:VEVENT
UID:evt_68d65d57839796.16166906@events.local
DTSTAMP:20260420T230304Z
DTSTART;VALUE=DATE:20250320
DTEND;VALUE=DATE:20250324
SUMMARY:AURC 2025
LOCATION:\, Valloire
DESCRIPTION:Organisateur: Pr Cochenec/Pr Sobocinski\nType: Congrès vasculaire\nParticipation: Oui\nCvent: Oui\nPrésence: Arnaud, JJC
END:VEVENT
END:VCALENDAR
