BEGIN:VCALENDAR
VERSION:2.0
PRODID:-//Planning Congres//ICS//FR
CALSCALE:GREGORIAN
METHOD:PUBLISH
BEGIN:VEVENT
UID:evt_68d65d57839931.48742890@events.local
DTSTAMP:20260420T230221Z
DTSTART;VALUE=DATE:20250320
DTEND;VALUE=DATE:20250322
SUMMARY:CRITICAL ISSUES
LOCATION:Hayatt\, Paris
DESCRIPTION:Organisateur: Pr Haulon /EUROPA\nType: Congrès vasculaire\nParticipation: EMEA\nCvent: Non\nPrésence: Jacques,Valerie,JJC
END:VEVENT
END:VCALENDAR
