BEGIN:VCALENDAR
VERSION:2.0
PRODID:-//Planning Congres//ICS//FR
CALSCALE:GREGORIAN
METHOD:PUBLISH
BEGIN:VEVENT
UID:evt_68d65d57839ad1.29175375@events.local
DTSTAMP:20260421T003511Z
DTSTART;VALUE=DATE:20250414
DTEND;VALUE=DATE:20250420
SUMMARY:PEAC
LOCATION:CCML\, Paris
DESCRIPTION:Organisateur: Pr Haulon /EUROPA\nType: Congrès vasculaire\nParticipation: EMEA\nPrésence: voir plan de rotation spécifique
END:VEVENT
END:VCALENDAR
