BEGIN:VCALENDAR
VERSION:2.0
PRODID:-//Planning Congres//ICS//FR
CALSCALE:GREGORIAN
METHOD:PUBLISH
BEGIN:VEVENT
UID:evt_68d65d57839c42.79528584@events.local
DTSTAMP:20260420T230044Z
DTSTART;VALUE=DATE:20250515
DTEND;VALUE=DATE:20250518
SUMMARY:ESVB 2025
LOCATION:Palais de la musique\, Strasbourg
DESCRIPTION:Organisateur: Pr Chakfe\nType: Congrès vasculaire\nParticipation: Oui\nCvent: non\nPrésence: Chafia, Arnaud  +-Anne-laure  .... à Confirmer / completer
END:VEVENT
END:VCALENDAR
