BEGIN:VCALENDAR
VERSION:2.0
PRODID:-//Planning Congres//ICS//FR
CALSCALE:GREGORIAN
METHOD:PUBLISH
BEGIN:VEVENT
UID:evt_68d65d57839dc6.15713372@events.local
DTSTAMP:20260421T003323Z
DTSTART;VALUE=DATE:20250607
DTEND;VALUE=DATE:20250610
SUMMARY:OXYMORE
LOCATION:Hotal Cala di Sol\, Ajaccio
DESCRIPTION:Organisateur: Dr Soler/Dr Valerio\nType: Congrès vasculaire\nParticipation: Oui\nCvent: Oui\nPrésence: JJC,Yolande
END:VEVENT
END:VCALENDAR
