BEGIN:VCALENDAR
VERSION:2.0
PRODID:-//Planning Congres//ICS//FR
CALSCALE:GREGORIAN
METHOD:PUBLISH
BEGIN:VEVENT
UID:evt_68d65d57839f52.12033578@events.local
DTSTAMP:20260420T230045Z
DTSTART;VALUE=DATE:20250523
DTEND;VALUE=DATE:20250525
SUMMARY:CFCV
LOCATION:Gruisan\, Gruisan et all
DESCRIPTION:Organisateur: Pr Chaufour\nType: Collèges vasculaire\nParticipation: Oui\nCvent: Pending\nPrésence: CSS Région +- RBM
END:VEVENT
END:VCALENDAR
