BEGIN:VCALENDAR
VERSION:2.0
PRODID:-//Planning Congres//ICS//FR
CALSCALE:GREGORIAN
METHOD:PUBLISH
BEGIN:VEVENT
UID:evt_68d65d5783a0f1.45555730@events.local
DTSTAMP:20260420T230304Z
DTSTART;VALUE=DATE:20250625
DTEND;VALUE=DATE:20250629
SUMMARY:SCVE
LOCATION:Palais congrès Lille\, Lille
DESCRIPTION:Organisateur: DIVINE id (Pr Chevalier)\nType: Congrès vasculaire\nParticipation: Oui\nCvent: Oui\nPrésence: JJC, Jacques, Arnaud, Valerie , Véronique , Hélene , Morgane ,Anne-Laure ,Marie Aurore
END:VEVENT
END:VCALENDAR
