BEGIN:VCALENDAR
VERSION:2.0
PRODID:-//Planning Congres//ICS//FR
CALSCALE:GREGORIAN
METHOD:PUBLISH
BEGIN:VEVENT
UID:evt_68d65d5783b776.19840445@events.local
DTSTAMP:20260421T003445Z
DTSTART;VALUE=DATE:20250919
DTEND;VALUE=DATE:20250921
SUMMARY:JCVS
LOCATION:Hotel les Mèdes\, Hyeres
DESCRIPTION:Organisateur: Pr Magnan/Bartoli/Chaufour\nType: Congrès vasculaire\nParticipation: Oui\nCvent: Oui\nPrésence: JJC/Yolande /Arnaud
END:VEVENT
END:VCALENDAR
