BEGIN:VCALENDAR
VERSION:2.0
PRODID:-//Planning Congres//ICS//FR
CALSCALE:GREGORIAN
METHOD:PUBLISH
BEGIN:VEVENT
UID:evt_68d65d5783baa3.31482980@events.local
DTSTAMP:20260420T225855Z
DTSTART;VALUE=DATE:20250911
DTEND;VALUE=DATE:20250913
SUMMARY:SRES
LOCATION:Palis du Pharo\, Marseille
DESCRIPTION:Organisateur: Pr Gaudry/COMCO\nType: Congrès vasculaire\nParticipation: Pending\nCvent: Non\nPrésence: Yolande ,William, Arnaud
END:VEVENT
END:VCALENDAR
