BEGIN:VCALENDAR
VERSION:2.0
PRODID:-//Planning Congres//ICS//FR
CALSCALE:GREGORIAN
METHOD:PUBLISH
BEGIN:VEVENT
UID:evt_68d65d5783bc61.29274006@events.local
DTSTAMP:20260420T225942Z
DTSTART;VALUE=DATE:20250927
DTEND;VALUE=DATE:20250929
SUMMARY:VSOP
LOCATION:domaine seignosse\, Seignosse
DESCRIPTION:Organisateur: Dr Diard\nType: Autres\nParticipation: Oui\nCvent: Non\nPrésence: Morgane , Agathe Jacques
END:VEVENT
END:VCALENDAR
