BEGIN:VCALENDAR
VERSION:2.0
PRODID:-//Planning Congres//ICS//FR
CALSCALE:GREGORIAN
METHOD:PUBLISH
BEGIN:VEVENT
UID:evt_68d65d5783bdf4.67782277@events.local
DTSTAMP:20260420T230033Z
DTSTART;VALUE=DATE:20250926
DTEND;VALUE=DATE:20250928
SUMMARY:ENDOWEST
LOCATION:\, Sauzon
DESCRIPTION:Organisateur: Dr Bocquel\nType: Congrès vasculaire\nParticipation: Pending\nCvent: Oui\nPrésence: Olivier & Mathias
END:VEVENT
END:VCALENDAR
