BEGIN:VCALENDAR
VERSION:2.0
PRODID:-//Planning Congres//ICS//FR
CALSCALE:GREGORIAN
METHOD:PUBLISH
BEGIN:VEVENT
UID:evt_68d65d5783bf88.86561375@events.local
DTSTAMP:20260420T225942Z
DTSTART;VALUE=DATE:20251003
DTEND;VALUE=DATE:20251005
SUMMARY:ARCHIV
LOCATION:Le relai Margaux\, bordeaux
DESCRIPTION:Organisateur: Dr Page\nType: Congrès vasculaire\nParticipation: Oui\nCvent: Oui
END:VEVENT
END:VCALENDAR
