BEGIN:VCALENDAR
VERSION:2.0
PRODID:-//Planning Congres//ICS//FR
CALSCALE:GREGORIAN
METHOD:PUBLISH
BEGIN:VEVENT
UID:evt_68d65d5783c115.17492342@events.local
DTSTAMP:20260420T230427Z
DTSTART;VALUE=DATE:20251211
DTEND;VALUE=DATE:20251214
SUMMARY:PVI
LOCATION:Carrousel du Louvre\, Paris
DESCRIPTION:Organisateur: Pr Haulon / Pr Ducasse / Pr Gouefic / Pr Deloose\nType: Congrès vasculaire\nParticipation: Oui\nCvent: Oui\nPrésence: JJC, Jacques, Arnaud, AImé, Vincent,  Valerie, Marie-Aurore, Jean-Philippe\nCommentaires: programme: https://interactive-programme.europa-organisation.com/pvi2025/programme_cs.php
END:VEVENT
END:VCALENDAR
