BEGIN:VCALENDAR
VERSION:2.0
PRODID:-//Planning Congres//ICS//FR
CALSCALE:GREGORIAN
METHOD:PUBLISH
BEGIN:VEVENT
UID:evt_68d65d5783c420.83830790@events.local
DTSTAMP:20260420T230417Z
DTSTART;VALUE=DATE:20251003
DTEND;VALUE=DATE:20251007
SUMMARY:JFR
LOCATION:Palais des Congrès de Paris\, Paris
DESCRIPTION:Organisateur: All\nType: Congrès radiologie interventionnelle\nParticipation: Non\nCvent: Oui\nPrésence: Patricia, Hélène, William, New rep , Jds, Arnaud
END:VEVENT
END:VCALENDAR
