BEGIN:VCALENDAR
VERSION:2.0
PRODID:-//Planning Congres//ICS//FR
CALSCALE:GREGORIAN
METHOD:PUBLISH
BEGIN:VEVENT
UID:evt_68d65d5783c5c9.25360002@events.local
DTSTAMP:20260421T003702Z
DTSTART;VALUE=DATE:20251120
DTEND;VALUE=DATE:20251122
SUMMARY:FIRE
LOCATION:Villa Gaby\, Marseille
DESCRIPTION:Organisateur: Pr Vidal\nType: Congrès radiologie interventionnelle\nParticipation: Oui\nCvent: Oui\nPrésence: William, Arnaud
END:VEVENT
END:VCALENDAR
