BEGIN:VCALENDAR
VERSION:2.0
PRODID:-//Planning Congres//ICS//FR
CALSCALE:GREGORIAN
METHOD:PUBLISH
BEGIN:VEVENT
UID:evt_68d65d5783c758.27942689@events.local
DTSTAMP:20260420T230417Z
DTSTART;VALUE=DATE:20251007
DTEND;VALUE=DATE:20251010
SUMMARY:EUROPHARMAT
LOCATION:Centre congrès bordeaux lac\, Bordeaux
DESCRIPTION:Type: Congrès pharmacie\nParticipation: Oui\nCvent: Oui\nPrésence: Philippe
END:VEVENT
END:VCALENDAR
