BEGIN:VCALENDAR
VERSION:2.0
PRODID:-//Planning Congres//ICS//FR
CALSCALE:GREGORIAN
METHOD:PUBLISH
BEGIN:VEVENT
UID:evt_68d65d578558c4.43303537@events.local
DTSTAMP:20260420T225856Z
DTSTART;VALUE=DATE:20260331
DTEND;VALUE=DATE:20260402
SUMMARY:CIV world 2026
LOCATION:Le Méridien Paris Arc de Triomphe\, Paris
DESCRIPTION:Organisateur: Pr Chiche\nType: Congrès vasculaire\nParticipation: Oui\nCvent: Oui\nPrésence: anne-laure , marie aurore , arnaud , jacques , jjc , vincent, pauline ,patricia
END:VEVENT
END:VCALENDAR
