BEGIN:VCALENDAR
VERSION:2.0
PRODID:-//Planning Congres//ICS//FR
CALSCALE:GREGORIAN
METHOD:PUBLISH
BEGIN:VEVENT
UID:evt_68d66ca45fc392.01870277@events.local
DTSTAMP:20260421T003229Z
DTSTART;VALUE=DATE:20260122
DTEND;VALUE=DATE:20260126
SUMMARY:AURC 2026
LOCATION:CHalet\, Valloire
DESCRIPTION:Organisateur: Pr Sobosinki\nType: Congrès vasculaire\nParticipation: Oui\nCvent: Pending\nPrésence: Arnaud JJ
END:VEVENT
END:VCALENDAR
