BEGIN:VCALENDAR
VERSION:2.0
PRODID:-//Planning Congres//ICS//FR
CALSCALE:GREGORIAN
METHOD:PUBLISH
BEGIN:VEVENT
UID:evt_73d5d70b9390@events.local
DTSTAMP:20260421T003114Z
DTSTART;VALUE=DATE:20261009
DTEND;VALUE=DATE:20261011
SUMMARY:ARCHIV 2026
LOCATION:Corrençon en Vercors.
DESCRIPTION:Organisateur: Dr Laure AZEMA\nType: Congrès vasculaire\nParticipation: Pending\nCvent: Pending\nPrésence: Thibault
END:VEVENT
END:VCALENDAR
