BEGIN:VCALENDAR
VERSION:2.0
PRODID:-//Planning Congres//ICS//FR
CALSCALE:GREGORIAN
METHOD:PUBLISH
BEGIN:VEVENT
UID:evt_8c2fe500a335@events.local
DTSTAMP:20260420T225508Z
DTSTART;VALUE=DATE:20251010
DTEND;VALUE=DATE:20251011
SUMMARY:Region Ouest
LOCATION:Le palace\, Nantes
DESCRIPTION:Type: Collèges vasculaire
END:VEVENT
END:VCALENDAR
