BEGIN:VCALENDAR
VERSION:2.0
PRODID:-//Planning Congres//ICS//FR
CALSCALE:GREGORIAN
METHOD:PUBLISH
BEGIN:VEVENT
UID:evt_9388efb6c1f6@events.local
DTSTAMP:20260421T003114Z
DTSTART;VALUE=DATE:20251023
DTEND;VALUE=DATE:20251025
SUMMARY:COLLEGE SUD-OUEST
LOCATION:Domaine de Fompeyres\, BAZAS
DESCRIPTION:Type: Collèges vasculaire
END:VEVENT
END:VCALENDAR
