BEGIN:VCALENDAR
VERSION:2.0
PRODID:-//Planning Congres//ICS//FR
CALSCALE:GREGORIAN
METHOD:PUBLISH
BEGIN:VEVENT
UID:evt_aab428afe8e3@events.local
DTSTAMP:20260420T225540Z
DTSTART;VALUE=DATE:20260624
DTEND;VALUE=DATE:20260628
SUMMARY:SCVE 2026
LOCATION:Marriott Rive gauche\, 17 Boulevard Saint Jacques\, 75014 Paris\, Paris
DESCRIPTION:Organisateur: Dr. Jean SABATIER / Divine\nType: Congrès vasculaire\nParticipation: Oui\nCvent: Oui\nPrésence: Jacques, Arnaud, JJc, Vincent, Pauline, Marie Aurore, Agathe, Patricia, Véronique
END:VEVENT
END:VCALENDAR
