BEGIN:VCALENDAR
VERSION:2.0
PRODID:-//Planning Congres//ICS//FR
CALSCALE:GREGORIAN
METHOD:PUBLISH
BEGIN:VEVENT
UID:evt_c0b9e14bdb8a@events.local
DTSTAMP:20260420T225427Z
DTSTART;VALUE=DATE:20251113
DTEND;VALUE=DATE:20251115
SUMMARY:Collège INTER-REGION NORD-EST
LOCATION:Labellemontagne Résidence Les Grandes Feignes\, La Bresse
DESCRIPTION:Type: Collèges vasculaire\nPrésence: Anne-LAure\nCommentaires: adresse collège: Labellemontagne Résidence Les Grandes Feignes, 88 route de Vologne, 88250 La Bresse
END:VEVENT
END:VCALENDAR
