BEGIN:VCALENDAR
VERSION:2.0
PRODID:-//Planning Congres//ICS//FR
CALSCALE:GREGORIAN
METHOD:PUBLISH
BEGIN:VEVENT
UID:evt_d46c9be88619@events.local
DTSTAMP:20260421T002954Z
DTSTART;VALUE=DATE:20260330
DTEND;VALUE=DATE:20260405
SUMMARY:PEAC 2026
LOCATION:hoptal Marie Lannelongue\, Paris
DESCRIPTION:Type: Formation\nParticipation: EMEA\nCvent: Non\nPrésence: Valérie, JPO
END:VEVENT
END:VCALENDAR
