BEGIN:VCALENDAR
VERSION:2.0
PRODID:-//Planning Congres//ICS//FR
CALSCALE:GREGORIAN
METHOD:PUBLISH
BEGIN:VEVENT
UID:evt_d4ed2a07acec@events.local
DTSTAMP:20260421T002954Z
DTSTART;VALUE=DATE:20260918
DTEND;VALUE=DATE:20260920
SUMMARY:JCVS 2026
LOCATION:ile de Porquerolles\, porquerolles
DESCRIPTION:Organisateur: Pr Michel Bartoli, Pr Xavier Chaufour, Pr Elixène Jean-Baptiste, Pr Pierre-Edouard Magnan\nType: Congrès vasculaire\nParticipation: Oui\nCvent: Oui\nPrésence: JJ, Arnaud, Yolande, Téo
END:VEVENT
END:VCALENDAR
