BEGIN:VCALENDAR
VERSION:2.0
PRODID:-//Planning Congres//ICS//FR
CALSCALE:GREGORIAN
METHOD:PUBLISH
BEGIN:VEVENT
UID:evt_e0c64cf573a5@events.local
DTSTAMP:20260420T225438Z
DTSTART;VALUE=DATE:20260206
DTEND;VALUE=DATE:20260207
SUMMARY:JVAP
LOCATION:APHP\, paris
DESCRIPTION:Organisateur: Pr Coscas\nType: Congrès vasculaire\nParticipation: Pending\nCvent: Non\nPrésence: Pauline, Marie Aurore, Patricia, Jacques
END:VEVENT
END:VCALENDAR
