BEGIN:VCALENDAR
VERSION:2.0
PRODID:-//Planning Congres//ICS//FR
CALSCALE:GREGORIAN
METHOD:PUBLISH
BEGIN:VEVENT
UID:evt_fd460724b4b4@events.local
DTSTAMP:20260420T225540Z
DTSTART;VALUE=DATE:20260307
DTEND;VALUE=DATE:20260308
SUMMARY:Vascu en nord
LOCATION:Louvre de Lens\, Lens
DESCRIPTION:Organisateur: Pr Sobosinski\nType: Réunion\nParticipation: Oui\nCvent: Oui\nPrésence: Valérie, Arnaud
END:VEVENT
END:VCALENDAR
